BEGIN:VCALENDAR
VERSION:2.0
PRODID:SchoolNow
CALSCALE:GREGORIAN
BEGIN:VEVENT
UID:f334c99c-2315-11f1-9eac-0a58a9feac02
DTSTAMP:20260423T094038Z
SUMMARY:DHPA Karoke Club ✨
LOCATION:Room 423 (DHPA - Building 400)
URL;VALUE=URI:https://www.dhschools.org/schools/desert-heights-preparatory-
 academy/calendar/8928290/dhpa-karoke-club
DTSTART:20260423T220000Z
DTEND:20260423T224500Z
END:VEVENT
END:VCALENDAR
