BEGIN:VCALENDAR
VERSION:2.0
PRODID:SchoolNow
CALSCALE:GREGORIAN
BEGIN:VEVENT
UID:4c02699e-ccf1-11ee-81bf-02a7de2c9dbb
DTSTAMP:20240216T173202Z
SUMMARY:K-12 Summer Office Hours
URL;VALUE=URI:https://www.dhschools.org/calendar/5342354/k-12-summer-office
 -hours-clone-clone-clone-clone-clone
DTSTART:20240715T143000Z
DTEND:20240718T230000Z
END:VEVENT
END:VCALENDAR
