BEGIN:VCALENDAR
VERSION:2.0
PRODID:SchoolNow
CALSCALE:GREGORIAN
BEGIN:VEVENT
UID:fc758c4a-dd53-11ed-a7b8-02e7d19daf6f
DTSTAMP:20230516T172016Z
SUMMARY:K-12 Offices Open (7:30AM-1:00PM)
URL;VALUE=URI:https://www.dhschools.org/calendar/4070259/k-12-offices-open-
 7-30am-1-00pm
DTSTART:20230604T142000Z
DTEND:20230608T200000Z
END:VEVENT
END:VCALENDAR
